Package: Rmmquant Version: 1.25.0 Command: /Library/Frameworks/R.framework/Resources/bin/R CMD check --install=check:Rmmquant.install-out.txt --library=/Library/Frameworks/R.framework/Resources/library --no-vignettes --timings Rmmquant_1.25.0.tar.gz StartedAt: 2025-02-17 22:43:26 -0500 (Mon, 17 Feb 2025) EndedAt: 2025-02-17 22:48:31 -0500 (Mon, 17 Feb 2025) EllapsedTime: 304.8 seconds RetCode: 0 Status: OK CheckDir: Rmmquant.Rcheck Warnings: 0