Package: Rmmquant Version: 1.25.0 Command: /Library/Frameworks/R.framework/Resources/bin/R CMD build --keep-empty-dirs --no-resave-data Rmmquant StartedAt: 2025-02-17 17:59:12 -0500 (Mon, 17 Feb 2025) EndedAt: 2025-02-17 18:00:36 -0500 (Mon, 17 Feb 2025) EllapsedTime: 84.5 seconds RetCode: 0 Status: OK PackageFile: Rmmquant_1.25.0.tar.gz PackageFileSize: 44.93 KiB