Package: Rmmquant Version: 1.25.0 Command: rm -rf Rmmquant.buildbin-libdir && mkdir Rmmquant.buildbin-libdir && /Users/biocbuild/BBS/utils/build-universal.sh Rmmquant_1.25.0.tar.gz /Library/Frameworks/R.framework/Resources/bin/R Rmmquant.buildbin-libdir StartedAt: 2025-02-18 00:43:12 -0500 (Tue, 18 Feb 2025) EndedAt: 2025-02-18 00:44:29 -0500 (Tue, 18 Feb 2025) EllapsedTime: 77.1 seconds RetCode: 0 Status: OK PackageFile: Rmmquant_1.25.0.tgz PackageFileSize: 457 KiB