Package: Rmmquant Version: 1.25.0 Command: /home/biocbuild/R/R/bin/R CMD build --keep-empty-dirs --no-resave-data Rmmquant StartedAt: 2025-01-29 01:45:43 -0000 (Wed, 29 Jan 2025) EndedAt: 2025-01-29 01:47:33 -0000 (Wed, 29 Jan 2025) EllapsedTime: 110.1 seconds RetCode: 0 Status: OK PackageFile: Rmmquant_1.25.0.tar.gz PackageFileSize: 45.81 KiB