Package: Rmmquant Version: 1.25.0 Command: /Library/Frameworks/R.framework/Resources/bin/R CMD check --install=check:Rmmquant.install-out.txt --library=/Library/Frameworks/R.framework/Resources/library --no-vignettes --timings Rmmquant_1.25.0.tar.gz StartedAt: 2025-02-19 21:07:01 -0500 (Wed, 19 Feb 2025) EndedAt: 2025-02-19 21:08:53 -0500 (Wed, 19 Feb 2025) EllapsedTime: 112.3 seconds RetCode: 0 Status: OK CheckDir: Rmmquant.Rcheck Warnings: 0