Package: Rmagpie Version: 1.63.0 Command: E:\biocbuild\bbs-3.21-bioc\R\bin\R.exe CMD INSTALL Rmagpie StartedAt: 2025-02-19 16:42:42 -0500 (Wed, 19 Feb 2025) EndedAt: 2025-02-19 16:43:39 -0500 (Wed, 19 Feb 2025) EllapsedTime: 56.8 seconds RetCode: 0 Status: OK