Package: Rmagpie Version: 1.63.0 Command: /home/biocbuild/bbs-3.21-bioc/R/bin/R CMD INSTALL Rmagpie StartedAt: 2025-02-20 15:21:30 -0500 (Thu, 20 Feb 2025) EndedAt: 2025-02-20 15:21:42 -0500 (Thu, 20 Feb 2025) EllapsedTime: 11.4 seconds RetCode: 0 Status: OK