Package: Rmagpie Version: 1.63.0 Command: /home/biocbuild/bbs-3.21-bioc/R/bin/R CMD check --install=check:Rmagpie.install-out.txt --library=/home/biocbuild/bbs-3.21-bioc/R/site-library --timings Rmagpie_1.63.0.tar.gz StartedAt: 2025-02-21 01:15:28 -0500 (Fri, 21 Feb 2025) EndedAt: 2025-02-21 01:17:02 -0500 (Fri, 21 Feb 2025) EllapsedTime: 94.1 seconds RetCode: 0 Status: OK CheckDir: Rmagpie.Rcheck Warnings: 0