Package: Rmagpie Version: 1.63.0 Command: /Library/Frameworks/R.framework/Resources/bin/R CMD INSTALL Rmagpie StartedAt: 2025-02-20 15:36:02 -0500 (Thu, 20 Feb 2025) EndedAt: 2025-02-20 15:36:19 -0500 (Thu, 20 Feb 2025) EllapsedTime: 16.8 seconds RetCode: 0 Status: OK