Package: Rmagpie Version: 1.63.0 Command: /Library/Frameworks/R.framework/Resources/bin/R CMD check --install=check:Rmagpie.install-out.txt --library=/Library/Frameworks/R.framework/Resources/library --no-vignettes --timings Rmagpie_1.63.0.tar.gz StartedAt: 2025-02-20 22:48:00 -0500 (Thu, 20 Feb 2025) EndedAt: 2025-02-20 22:49:30 -0500 (Thu, 20 Feb 2025) EllapsedTime: 89.4 seconds RetCode: 0 Status: OK CheckDir: Rmagpie.Rcheck Warnings: 0