Package: Rmagpie Version: 1.63.0 Command: /Library/Frameworks/R.framework/Resources/bin/R CMD build --keep-empty-dirs --no-resave-data Rmagpie StartedAt: 2025-02-20 18:00:44 -0500 (Thu, 20 Feb 2025) EndedAt: 2025-02-20 18:01:24 -0500 (Thu, 20 Feb 2025) EllapsedTime: 40.1 seconds RetCode: 0 Status: OK PackageFile: Rmagpie_1.63.0.tar.gz PackageFileSize: 464.4 KiB