Package: RiboProfiling Version: 1.37.0 Command: /home/biocbuild/bbs-3.21-bioc/R/bin/R CMD check --install=check:RiboProfiling.install-out.txt --library=/home/biocbuild/bbs-3.21-bioc/R/site-library --timings RiboProfiling_1.37.0.tar.gz StartedAt: 2025-02-20 01:46:39 -0500 (Thu, 20 Feb 2025) EndedAt: 2025-02-20 01:59:15 -0500 (Thu, 20 Feb 2025) EllapsedTime: 756.1 seconds RetCode: 0 Status: WARNINGS CheckDir: RiboProfiling.Rcheck Warnings: 1