Package: RiboProfiling Version: 1.37.0 Command: /home/biocbuild/bbs-3.21-bioc/R/bin/R CMD build --keep-empty-dirs --no-resave-data RiboProfiling StartedAt: 2025-02-19 18:53:36 -0500 (Wed, 19 Feb 2025) EndedAt: 2025-02-19 18:56:33 -0500 (Wed, 19 Feb 2025) EllapsedTime: 177.2 seconds RetCode: 0 Status: OK PackageFile: RiboProfiling_1.37.0.tar.gz PackageFileSize: 4.667 MiB