Package: RiboDiPA Version: 1.15.1 Command: /Library/Frameworks/R.framework/Resources/bin/R CMD INSTALL RiboDiPA StartedAt: 2025-02-17 15:22:40 -0500 (Mon, 17 Feb 2025) EndedAt: 2025-02-17 15:23:44 -0500 (Mon, 17 Feb 2025) EllapsedTime: 64.1 seconds RetCode: 0 Status: OK