Package: RiboDiPA Version: 1.15.1 Command: rm -rf RiboDiPA.buildbin-libdir && mkdir RiboDiPA.buildbin-libdir && /Users/biocbuild/BBS/utils/build-universal.sh RiboDiPA_1.15.1.tar.gz /Library/Frameworks/R.framework/Resources/bin/R RiboDiPA.buildbin-libdir StartedAt: 2025-02-18 00:42:45 -0500 (Tue, 18 Feb 2025) EndedAt: 2025-02-18 00:43:58 -0500 (Tue, 18 Feb 2025) EllapsedTime: 72.5 seconds RetCode: 0 Status: OK PackageFile: RiboDiPA_1.15.1.tgz PackageFileSize: 1.542 MiB