Package: RiboDiPA Version: 1.15.1 Command: /Library/Frameworks/R.framework/Resources/bin/R CMD INSTALL RiboDiPA StartedAt: 2025-02-19 15:13:59 -0500 (Wed, 19 Feb 2025) EndedAt: 2025-02-19 15:14:18 -0500 (Wed, 19 Feb 2025) EllapsedTime: 19.2 seconds RetCode: 0 Status: OK