Package: RiboDiPA Version: 1.15.1 Command: /Library/Frameworks/R.framework/Resources/bin/R CMD check --install=check:RiboDiPA.install-out.txt --library=/Library/Frameworks/R.framework/Resources/library --no-vignettes --timings RiboDiPA_1.15.1.tar.gz StartedAt: 2025-02-19 21:04:47 -0500 (Wed, 19 Feb 2025) EndedAt: 2025-02-19 21:08:59 -0500 (Wed, 19 Feb 2025) EllapsedTime: 252.0 seconds RetCode: 0 Status: OK CheckDir: RiboDiPA.Rcheck Warnings: 0