Package: RiboDiPA Version: 1.15.1 Command: /Library/Frameworks/R.framework/Resources/bin/R CMD build --keep-empty-dirs --no-resave-data RiboDiPA StartedAt: 2025-02-19 17:25:17 -0500 (Wed, 19 Feb 2025) EndedAt: 2025-02-19 17:27:32 -0500 (Wed, 19 Feb 2025) EllapsedTime: 134.5 seconds RetCode: 0 Status: OK PackageFile: RiboDiPA_1.15.1.tar.gz PackageFileSize: 1.817 MiB