Package: RiboDiPA Version: 1.15.1 Command: rm -rf RiboDiPA.buildbin-libdir && mkdir RiboDiPA.buildbin-libdir && /Users/biocbuild/BBS/utils/build-universal.sh RiboDiPA_1.15.1.tar.gz /Library/Frameworks/R.framework/Resources/bin/R RiboDiPA.buildbin-libdir StartedAt: 2025-02-19 22:35:23 -0500 (Wed, 19 Feb 2025) EndedAt: 2025-02-19 22:35:44 -0500 (Wed, 19 Feb 2025) EllapsedTime: 21.3 seconds RetCode: 0 Status: OK PackageFile: RiboDiPA_1.15.1.tgz PackageFileSize: 1.54 MiB