Package: RiboCrypt Version: 1.13.0 Command: chmod a+r RiboCrypt -R && E:\biocbuild\bbs-3.21-bioc\R\bin\R.exe CMD build --keep-empty-dirs --no-resave-data RiboCrypt StartedAt: 2025-02-19 21:12:37 -0500 (Wed, 19 Feb 2025) EndedAt: 2025-02-19 21:15:03 -0500 (Wed, 19 Feb 2025) EllapsedTime: 145.8 seconds RetCode: 0 Status: OK PackageFile: RiboCrypt_1.13.0.tar.gz PackageFileSize: 5.657 MiB