Package: RiboCrypt Version: 1.13.0 Command: rm -rf RiboCrypt.buildbin-libdir && mkdir RiboCrypt.buildbin-libdir && /Users/biocbuild/BBS/utils/build-universal.sh RiboCrypt_1.13.0.tar.gz /Library/Frameworks/R.framework/Resources/bin/R RiboCrypt.buildbin-libdir StartedAt: 2025-02-20 00:50:15 -0500 (Thu, 20 Feb 2025) EndedAt: 2025-02-20 00:51:20 -0500 (Thu, 20 Feb 2025) EllapsedTime: 65.7 seconds RetCode: 0 Status: OK PackageFile: RiboCrypt_1.13.0.tgz PackageFileSize: 5.863 MiB