Package: RiboCrypt Version: 1.13.0 Command: /Library/Frameworks/R.framework/Resources/bin/R CMD check --install=check:RiboCrypt.install-out.txt --library=/Library/Frameworks/R.framework/Resources/library --no-vignettes --timings RiboCrypt_1.13.0.tar.gz StartedAt: 2025-02-19 21:04:46 -0500 (Wed, 19 Feb 2025) EndedAt: 2025-02-19 21:06:43 -0500 (Wed, 19 Feb 2025) EllapsedTime: 116.5 seconds RetCode: 1 Status: ERROR CheckDir: RiboCrypt.Rcheck Warnings: NA