Package: Rhtslib Version: 3.3.1 Command: set _R_INSTALL_TIME_PATCHES_=no&& chmod a+r Rhtslib -R && E:\biocbuild\bbs-3.21-bioc\R\bin\R.exe CMD build --keep-empty-dirs --no-resave-data Rhtslib StartedAt: 2025-02-20 21:17:12 -0500 (Thu, 20 Feb 2025) EndedAt: 2025-02-20 21:20:26 -0500 (Thu, 20 Feb 2025) EllapsedTime: 194.4 seconds RetCode: 0 Status: OK PackageFile: Rhtslib_3.3.1.tar.gz PackageFileSize: 4.909 MiB