Package: Rhtslib Version: 3.3.1 Command: /home/biocbuild/bbs-3.21-bioc/R/bin/R CMD INSTALL Rhtslib StartedAt: 2025-02-20 15:04:42 -0500 (Thu, 20 Feb 2025) EndedAt: 2025-02-20 15:06:06 -0500 (Thu, 20 Feb 2025) EllapsedTime: 83.5 seconds RetCode: 0 Status: OK