Package: Rhtslib Version: 3.3.1 Command: /home/biocbuild/bbs-3.21-bioc/R/bin/R CMD check --install=check:Rhtslib.install-out.txt --library=/home/biocbuild/bbs-3.21-bioc/R/site-library --timings Rhtslib_3.3.1.tar.gz StartedAt: 2025-02-21 01:12:46 -0500 (Fri, 21 Feb 2025) EndedAt: 2025-02-21 01:13:03 -0500 (Fri, 21 Feb 2025) EllapsedTime: 17.1 seconds RetCode: 0 Status: OK CheckDir: Rhtslib.Rcheck Warnings: 0