Package: Rhtslib Version: 3.3.1 Command: /home/biocbuild/bbs-3.21-bioc/R/bin/R CMD build --keep-empty-dirs --no-resave-data Rhtslib StartedAt: 2025-02-20 18:57:55 -0500 (Thu, 20 Feb 2025) EndedAt: 2025-02-20 18:59:24 -0500 (Thu, 20 Feb 2025) EllapsedTime: 89.1 seconds RetCode: 0 Status: OK PackageFile: Rhtslib_3.3.1.tar.gz PackageFileSize: 4.909 MiB