Package: Rhtslib Version: 3.3.1 Command: /Library/Frameworks/R.framework/Resources/bin/R CMD build --keep-empty-dirs --no-resave-data Rhtslib StartedAt: 2025-02-20 17:59:43 -0500 (Thu, 20 Feb 2025) EndedAt: 2025-02-20 18:00:36 -0500 (Thu, 20 Feb 2025) EllapsedTime: 52.5 seconds RetCode: 0 Status: OK PackageFile: Rhtslib_3.3.1.tar.gz PackageFileSize: 4.91 MiB