Package: Rhtslib Version: 3.3.1 Command: /Library/Frameworks/R.framework/Resources/bin/R CMD check --install=check:Rhtslib.install-out.txt --library=/Library/Frameworks/R.framework/Resources/library --no-vignettes --timings Rhtslib_3.3.1.tar.gz StartedAt: 2025-02-20 21:01:26 -0500 (Thu, 20 Feb 2025) EndedAt: 2025-02-20 21:01:39 -0500 (Thu, 20 Feb 2025) EllapsedTime: 13.2 seconds RetCode: 0 Status: OK CheckDir: Rhtslib.Rcheck Warnings: 0