Package: Rhisat2 Version: 1.23.0 Command: E:\biocbuild\bbs-3.21-bioc\R\bin\R.exe CMD INSTALL Rhisat2 StartedAt: 2025-02-20 16:21:26 -0500 (Thu, 20 Feb 2025) EndedAt: 2025-02-20 16:26:40 -0500 (Thu, 20 Feb 2025) EllapsedTime: 314.5 seconds RetCode: 0 Status: OK