Package: Rhisat2 Version: 1.23.0 Command: chmod a+r Rhisat2 -R && E:\biocbuild\bbs-3.21-bioc\R\bin\R.exe CMD build --keep-empty-dirs --no-resave-data Rhisat2 StartedAt: 2025-02-19 21:12:17 -0500 (Wed, 19 Feb 2025) EndedAt: 2025-02-19 21:19:10 -0500 (Wed, 19 Feb 2025) EllapsedTime: 413.0 seconds RetCode: 0 Status: OK PackageFile: Rhisat2_1.23.0.tar.gz PackageFileSize: 6.744 MiB