Package: Rhisat2 Version: 1.23.0 Command: rm -rf Rhisat2.buildbin-libdir && mkdir Rhisat2.buildbin-libdir && E:\biocbuild\bbs-3.21-bioc\R\bin\R.exe CMD INSTALL --build --library=Rhisat2.buildbin-libdir Rhisat2_1.23.0.tar.gz StartedAt: 2025-02-21 08:55:12 -0500 (Fri, 21 Feb 2025) EndedAt: 2025-02-21 09:00:08 -0500 (Fri, 21 Feb 2025) EllapsedTime: 295.8 seconds RetCode: 0 Status: OK PackageFile: Rhisat2_1.23.0.zip PackageFileSize: 18.35 MiB