Package: Rhisat2 Version: 1.23.0 Command: /home/biocbuild/bbs-3.21-bioc/R/bin/R CMD INSTALL Rhisat2 StartedAt: 2025-02-18 15:41:05 -0500 (Tue, 18 Feb 2025) EndedAt: 2025-02-18 15:44:27 -0500 (Tue, 18 Feb 2025) EllapsedTime: 202.1 seconds RetCode: 0 Status: OK