Package: Rhdf5lib Version: 1.29.0 Command: E:\biocbuild\bbs-3.21-bioc\R\bin\R.exe CMD check --no-multiarch --install=check:Rhdf5lib.install-out.txt --library=E:\biocbuild\bbs-3.21-bioc\R\library --no-vignettes --timings Rhdf5lib_1.29.0.tar.gz StartedAt: 2025-02-21 04:59:48 -0500 (Fri, 21 Feb 2025) EndedAt: 2025-02-21 05:01:04 -0500 (Fri, 21 Feb 2025) EllapsedTime: 75.4 seconds RetCode: 0 Status: OK CheckDir: Rhdf5lib.Rcheck Warnings: 0