Package: Rhdf5lib Version: 1.29.0 Command: rm -rf Rhdf5lib.buildbin-libdir && mkdir Rhdf5lib.buildbin-libdir && E:\biocbuild\bbs-3.21-bioc\R\bin\R.exe CMD INSTALL --build --library=Rhdf5lib.buildbin-libdir Rhdf5lib_1.29.0.tar.gz StartedAt: 2025-02-21 08:55:05 -0500 (Fri, 21 Feb 2025) EndedAt: 2025-02-21 08:55:52 -0500 (Fri, 21 Feb 2025) EllapsedTime: 46.9 seconds RetCode: 0 Status: OK PackageFile: Rhdf5lib_1.29.0.zip PackageFileSize: 6.242 MiB