Package: Rhdf5lib Version: 1.29.0 Command: /home/biocbuild/bbs-3.21-bioc/R/bin/R CMD build --keep-empty-dirs --no-resave-data Rhdf5lib StartedAt: 2025-02-20 18:57:35 -0500 (Thu, 20 Feb 2025) EndedAt: 2025-02-20 19:01:18 -0500 (Thu, 20 Feb 2025) EllapsedTime: 223.2 seconds RetCode: 0 Status: OK PackageFile: Rhdf5lib_1.29.0.tar.gz PackageFileSize: 11.5 MiB