Package: Rhdf5lib Version: 1.29.0 Command: /Library/Frameworks/R.framework/Resources/bin/R CMD INSTALL Rhdf5lib StartedAt: 2025-02-21 15:01:14 -0500 (Fri, 21 Feb 2025) EndedAt: 2025-02-21 15:02:58 -0500 (Fri, 21 Feb 2025) EllapsedTime: 103.6 seconds RetCode: 0 Status: OK