Package: Rhdf5lib Version: 1.29.0 Command: /Library/Frameworks/R.framework/Resources/bin/R CMD build --keep-empty-dirs --no-resave-data Rhdf5lib StartedAt: 2025-02-21 17:23:13 -0500 (Fri, 21 Feb 2025) EndedAt: 2025-02-21 17:25:08 -0500 (Fri, 21 Feb 2025) EllapsedTime: 115.3 seconds RetCode: 0 Status: OK PackageFile: Rhdf5lib_1.29.0.tar.gz PackageFileSize: 11.5 MiB