Package: Rgraphviz Version: 2.51.0 Command: /home/biocbuild/bbs-3.21-bioc/R/bin/R CMD INSTALL Rgraphviz StartedAt: 2025-02-17 15:12:53 -0500 (Mon, 17 Feb 2025) EndedAt: 2025-02-17 15:14:29 -0500 (Mon, 17 Feb 2025) EllapsedTime: 96.9 seconds RetCode: 0 Status: OK