Package: Rgraphviz Version: 2.51.0 Command: /home/biocbuild/bbs-3.21-bioc/R/bin/R CMD check --install=check:Rgraphviz.install-out.txt --library=/home/biocbuild/bbs-3.21-bioc/R/site-library --timings Rgraphviz_2.51.0.tar.gz StartedAt: 2025-02-18 01:32:07 -0500 (Tue, 18 Feb 2025) EndedAt: 2025-02-18 01:32:50 -0500 (Tue, 18 Feb 2025) EllapsedTime: 43.1 seconds RetCode: 0 Status: WARNINGS CheckDir: Rgraphviz.Rcheck Warnings: 2