Package: Rgraphviz Version: 2.51.0 Command: /home/biocbuild/bbs-3.21-bioc/R/bin/R CMD build --keep-empty-dirs --no-resave-data Rgraphviz StartedAt: 2025-02-17 18:48:52 -0500 (Mon, 17 Feb 2025) EndedAt: 2025-02-17 18:50:23 -0500 (Mon, 17 Feb 2025) EllapsedTime: 91.1 seconds RetCode: 0 Status: OK PackageFile: Rgraphviz_2.51.0.tar.gz PackageFileSize: 7.341 MiB