Package: Rgraphviz Version: 2.51.0 Command: /Library/Frameworks/R.framework/Resources/bin/R CMD INSTALL Rgraphviz StartedAt: 2025-02-17 15:02:13 -0500 (Mon, 17 Feb 2025) EndedAt: 2025-02-17 15:03:07 -0500 (Mon, 17 Feb 2025) EllapsedTime: 53.6 seconds RetCode: 0 Status: OK