Package: Rgraphviz Version: 2.51.0 Command: /Library/Frameworks/R.framework/Resources/bin/R CMD build --keep-empty-dirs --no-resave-data Rgraphviz StartedAt: 2025-02-17 17:22:11 -0500 (Mon, 17 Feb 2025) EndedAt: 2025-02-17 17:23:23 -0500 (Mon, 17 Feb 2025) EllapsedTime: 71.7 seconds RetCode: 0 Status: OK PackageFile: Rgraphviz_2.51.0.tar.gz PackageFileSize: 7.329 MiB