Package: RgnTX Version: 1.9.0 Command: /Library/Frameworks/R.framework/Resources/bin/R CMD INSTALL RgnTX StartedAt: 2025-02-20 15:10:43 -0500 (Thu, 20 Feb 2025) EndedAt: 2025-02-20 15:10:58 -0500 (Thu, 20 Feb 2025) EllapsedTime: 15.4 seconds RetCode: 0 Status: OK