Package: RgnTX Version: 1.9.0 Command: /Library/Frameworks/R.framework/Resources/bin/R CMD check --install=check:RgnTX.install-out.txt --library=/Library/Frameworks/R.framework/Resources/library --no-vignettes --timings RgnTX_1.9.0.tar.gz StartedAt: 2025-02-20 21:00:38 -0500 (Thu, 20 Feb 2025) EndedAt: 2025-02-20 21:03:53 -0500 (Thu, 20 Feb 2025) EllapsedTime: 195.5 seconds RetCode: 0 Status: OK CheckDir: RgnTX.Rcheck Warnings: 0