Package: RgnTX Version: 1.9.0 Command: rm -rf RgnTX.buildbin-libdir && mkdir RgnTX.buildbin-libdir && /Users/biocbuild/BBS/utils/build-universal.sh RgnTX_1.9.0.tar.gz /Library/Frameworks/R.framework/Resources/bin/R RgnTX.buildbin-libdir StartedAt: 2025-02-20 22:31:58 -0500 (Thu, 20 Feb 2025) EndedAt: 2025-02-20 22:32:15 -0500 (Thu, 20 Feb 2025) EllapsedTime: 17.3 seconds RetCode: 0 Status: OK PackageFile: RgnTX_1.9.0.tgz PackageFileSize: 2.705 MiB