Package: Rfastp Version: 1.17.0 Command: chmod a+r Rfastp -R && E:\biocbuild\bbs-3.21-bioc\R\bin\R.exe CMD build --keep-empty-dirs --no-resave-data Rfastp StartedAt: 2025-02-20 21:13:45 -0500 (Thu, 20 Feb 2025) EndedAt: 2025-02-20 21:16:29 -0500 (Thu, 20 Feb 2025) EllapsedTime: 164.3 seconds RetCode: 0 Status: OK PackageFile: Rfastp_1.17.0.tar.gz PackageFileSize: 2.421 MiB