Package: Rfastp Version: 1.17.0 Command: /home/biocbuild/bbs-3.21-bioc/R/bin/R CMD check --install=check:Rfastp.install-out.txt --library=/home/biocbuild/bbs-3.21-bioc/R/site-library --timings Rfastp_1.17.0.tar.gz StartedAt: 2025-02-21 01:10:00 -0500 (Fri, 21 Feb 2025) EndedAt: 2025-02-21 01:10:43 -0500 (Fri, 21 Feb 2025) EllapsedTime: 43.0 seconds RetCode: 0 Status: WARNINGS CheckDir: Rfastp.Rcheck Warnings: 1