Package: Rfastp Version: 1.17.0 Command: /Library/Frameworks/R.framework/Resources/bin/R CMD INSTALL Rfastp StartedAt: 2025-02-20 15:08:04 -0500 (Thu, 20 Feb 2025) EndedAt: 2025-02-20 15:09:24 -0500 (Thu, 20 Feb 2025) EllapsedTime: 79.7 seconds RetCode: 0 Status: OK