Package: Rfastp Version: 1.17.0 Command: /Library/Frameworks/R.framework/Resources/bin/R CMD INSTALL Rfastp StartedAt: 2025-02-21 15:05:40 -0500 (Fri, 21 Feb 2025) EndedAt: 2025-02-21 15:06:05 -0500 (Fri, 21 Feb 2025) EllapsedTime: 24.2 seconds RetCode: 0 Status: OK