Package: ResidualMatrix Version: 1.17.0 Command: /home/biocbuild/bbs-3.21-bioc/R/bin/R CMD INSTALL ResidualMatrix StartedAt: 2025-02-18 15:14:14 -0500 (Tue, 18 Feb 2025) EndedAt: 2025-02-18 15:14:32 -0500 (Tue, 18 Feb 2025) EllapsedTime: 17.8 seconds RetCode: 0 Status: OK